BEGIN:VCALENDAR
PRODID:-//AT Content Types//AT Event//EN
VERSION:1.0
BEGIN:VEVENT
DTSTART:20251206T230000Z
DTEND:20251207T230000Z
DCREATED:20251113T111224Z
UID:ATEvent-d44927ae0b7a48dda17fa2f34893fa99
SEQUENCE:0
LAST-MODIFIED:20251117T103758Z
SUMMARY:30th anniversary of the Évora community
LOCATION:Évora\, Portugal
PRIORITY:3
TRANSP:0
END:VEVENT
END:VCALENDAR
