BEGIN:VCALENDAR
PRODID:-//AT Content Types//AT Event//EN
VERSION:1.0
BEGIN:VEVENT
DTSTART:20240927T220000Z
DTEND:20240927T220000Z
DCREATED:20240703T123904Z
UID:ATEvent-23b823ec127149518a409e9de51fb4da
SEQUENCE:0
LAST-MODIFIED:20240703T124313Z
SUMMARY:40th anniversary of Faith and Light in the Philippines
DESCRIPTION:Theme : "Resounding the joyful message of friendship and o
 neness"
LOCATION:San Roque Parish\, Mandaluyong City\, Philippines
PRIORITY:3
TRANSP:0
END:VEVENT
END:VCALENDAR
