BEGIN:VCALENDAR
PRODID:-//AT Content Types//AT Event//EN
VERSION:1.0
BEGIN:VEVENT
DTSTART:20260709T220000Z
DTEND:20260711T220000Z
DCREATED:20260210T083748Z
UID:ATEvent-998f00467d65471086424ef453af2c45
SEQUENCE:0
LAST-MODIFIED:20260210T084636Z
SUMMARY:40th anniversary celebration of Faith and Light (Hungary\, Romania\, Serbia)
DESCRIPTION:For the Danube province
LOCATION:Vajta\, Hungary
PRIORITY:3
TRANSP:0
END:VEVENT
END:VCALENDAR
