BEGIN:VCALENDAR
PRODID:-//AT Content Types//AT Event//EN
VERSION:1.0
BEGIN:VEVENT
DTSTART:20231201T230000Z
DTEND:20231202T230000Z
DCREATED:20231128T135637Z
UID:ATEvent-768d00b934dd4b03981527cb8c38a7bf
SEQUENCE:0
LAST-MODIFIED:20231129T063658Z
SUMMARY:40th Anniversary of Faith and Light in Dominican Republic
DESCRIPTION:Theme : Hand in hand. 15 communities will participate to t
 his event.
LOCATION:Consa\, Colegio nuestra Señora de la atagracia Santo Domingo\, los prados\, Dominican Republic
PRIORITY:3
TRANSP:0
END:VEVENT
END:VCALENDAR
