BEGIN:VCALENDAR
PRODID:-//AT Content Types//AT Event//EN
VERSION:2.0
METHOD:PUBLISH
BEGIN:VEVENT
DTSTAMP:20260422T012918Z
CREATED:20240510T151533Z
UID:ATEvent-9f668a3f34754a26aad570f8018b583c
LAST-MODIFIED:20240529T091026Z
SUMMARY:A national music day 2024 - The Netherlands
DTSTART:20240809T220000Z
DTEND:20240809T220000Z
DESCRIPTION:A national music day brings Faith and Light musicians and 
 singers together for an unforgettable day
LOCATION:Helvoirt\, The Netherlands
CLASS:PUBLIC
END:VEVENT
END:VCALENDAR
