BEGIN:VCALENDAR
PRODID:-//AT Content Types//AT Event//EN
VERSION:2.0
METHOD:PUBLISH
BEGIN:VEVENT
DTSTAMP:20260421T204850Z
CREATED:20231129T113110Z
UID:ATEvent-f4fd064659ca4330a8043da496221286
LAST-MODIFIED:20240223T084246Z
SUMMARY:Annual dinner organized by the province ILA TRINITY
DTSTART:20240411T220000Z
DTEND:20240411T220000Z
LOCATION:Lebanon\, place to be confirmed
CLASS:PUBLIC
END:VEVENT
END:VCALENDAR
