BEGIN:VCALENDAR
PRODID:-//AT Content Types//AT Event//EN
VERSION:1.0
BEGIN:VEVENT
DTSTART:20240529T220000Z
DTEND:20240601T220000Z
DCREATED:20240520T105800Z
UID:ATEvent-27aa930f25ec465c8d88a21943b1c469
SEQUENCE:0
LAST-MODIFIED:20240528T081354Z
SUMMARY:Assembly of the province Bridge of Hope (Brasil\, Argentina\, Paraguay)
DESCRIPTION:Election of a new provincial coordinator
LOCATION:São Paulo\, Brazil
PRIORITY:3
TRANSP:0
END:VEVENT
END:VCALENDAR
