BEGIN:VCALENDAR
PRODID:-//AT Content Types//AT Event//EN
VERSION:2.0
METHOD:PUBLISH
BEGIN:VEVENT
DTSTAMP:20260424T090931Z
CREATED:20230203T151512Z
UID:ATEvent-6cf2778181d14eb2952053424e65cf56
LAST-MODIFIED:20230209T105409Z
SUMMARY:Assembly of the provincial association Iberatlantic
DTSTART:20230528T080000Z
DTEND:20230528T120000Z
LOCATION:Zoom
CLASS:PUBLIC
END:VEVENT
END:VCALENDAR
