BEGIN:VCALENDAR
PRODID:-//AT Content Types//AT Event//EN
VERSION:1.0
BEGIN:VEVENT
DTSTART:20240404T220000Z
DTEND:20240406T220000Z
DCREATED:20240130T150339Z
UID:ATEvent-c2be7c4488e543d9a26b3362103603e6
SEQUENCE:0
LAST-MODIFIED:20240130T150340Z
SUMMARY:Beacons of Light Provincial team meeting
LOCATION:The Briery\, Ilkley\, North Yorkshire
PRIORITY:3
TRANSP:0
END:VEVENT
END:VCALENDAR
