BEGIN:VCALENDAR
PRODID:-//AT Content Types//AT Event//EN
VERSION:2.0
METHOD:PUBLISH
BEGIN:VEVENT
DTSTAMP:20260422T000846Z
CREATED:20240611T083406Z
UID:ATEvent-edbc744bf3294e21b80288da366490ad
LAST-MODIFIED:20240613T100525Z
SUMMARY:Blessing of the Sick  - province Beacon of Light
DTSTART:20240623T120000Z
DTEND:20240623T140000Z
LOCATION:St Benedict’s Church\, Garforth\, Angleterre
CLASS:PUBLIC
END:VEVENT
END:VCALENDAR
