BEGIN:VCALENDAR
PRODID:-//AT Content Types//AT Event//EN
VERSION:1.0
BEGIN:VEVENT
DTSTART:20260628T130000Z
DTEND:20260628T130000Z
DCREATED:20260304T155707Z
UID:ATEvent-3e464189c9f840bf87a72220282f88fd
SEQUENCE:0
LAST-MODIFIED:20260304T155740Z
SUMMARY:Blessing of the sick
DESCRIPTION:Province Beacons of Light \n\nMass followed by a shared pi
 cnic
LOCATION:Saint Benedict's Catholic Church\, Aberford Road\, Garforth\, Leeds LS25 1PX\, United Kingdom
PRIORITY:3
TRANSP:0
END:VEVENT
END:VCALENDAR
