BEGIN:VCALENDAR
PRODID:-//AT Content Types//AT Event//EN
VERSION:1.0
BEGIN:VEVENT
DTSTART:20240202T230000Z
DTEND:20240203T230000Z
DCREATED:20240130T133704Z
UID:ATEvent-cbcff236620e4dc19dbb3764c1f10867
SEQUENCE:0
LAST-MODIFIED:20240130T133705Z
SUMMARY:Candlemas weekend in England
LOCATION:West Bridgford Methodist Church
PRIORITY:3
TRANSP:0
END:VEVENT
END:VCALENDAR
