BEGIN:VCALENDAR
PRODID:-//AT Content Types//AT Event//EN
VERSION:1.0
BEGIN:VEVENT
DTSTART:20260626T220000Z
DTEND:20260626T220000Z
DCREATED:20251201T115156Z
UID:ATEvent-0fe8b01189034dea9e6e6d7512ac24b8
SEQUENCE:0
LAST-MODIFIED:20251201T120328Z
SUMMARY:Celebration Evening (Southern Lebanon)
DESCRIPTION:For communities in South Lebanon (for families\, young peo
 ple\, etc.) \nWorkshops for parents followed by dinner
LOCATION:Lebanon (location to be specified)
PRIORITY:3
TRANSP:0
END:VEVENT
END:VCALENDAR
