BEGIN:VCALENDAR
PRODID:-//AT Content Types//AT Event//EN
VERSION:1.0
BEGIN:VEVENT
DTSTART:20230901T220000Z
DTEND:20230901T220000Z
DCREATED:20230126T101336Z
UID:ATEvent-c62a9ed8f735411eabb33cc228fd18b8
SEQUENCE:0
LAST-MODIFIED:20230126T101337Z
SUMMARY:Celebration of the 40th anniversary of Faith and Light in Slovenia
LOCATION:Brezje\, Slovenia
PRIORITY:3
TRANSP:0
END:VEVENT
END:VCALENDAR
