BEGIN:VCALENDAR
PRODID:-//AT Content Types//AT Event//EN
VERSION:1.0
BEGIN:VEVENT
DTSTART:20230623T220000Z
DTEND:20230623T220000Z
DCREATED:20221018T082303Z
UID:ATEvent-c6bc6df5fcee4dc48afbcd44a18e6726
SEQUENCE:0
LAST-MODIFIED:20230105T153246Z
SUMMARY:Celebration of the 45th anniversary of Faith and Light in Poland
LOCATION:Gniezno or Lednica\, Poland
PRIORITY:3
TRANSP:0
END:VEVENT
END:VCALENDAR
