BEGIN:VCALENDAR
PRODID:-//AT Content Types//AT Event//EN
VERSION:2.0
METHOD:PUBLISH
BEGIN:VEVENT
DTSTAMP:20260422T080201Z
CREATED:20231103T160228Z
UID:ATEvent-e72b3d3fa488424fa2b2b9208a985229
LAST-MODIFIED:20231103T160511Z
SUMMARY:Christmas celebration in the province Colours of Asia
DTSTART:20231209T230000Z
DTEND:20231209T230000Z
DESCRIPTION:More details in the flyer to download
LOCATION:Singapore\, Malaysia\, Philippines
CLASS:PUBLIC
END:VEVENT
END:VCALENDAR
