BEGIN:VCALENDAR
PRODID:-//AT Content Types//AT Event//EN
VERSION:1.0
BEGIN:VEVENT
DTSTART:20251212T230000Z
DTEND:20251212T230000Z
DCREATED:20251106T110924Z
UID:ATEvent-b45a4bf4aa2d43adb1e9b621fc6ff3a1
SEQUENCE:0
LAST-MODIFIED:20251106T131504Z
SUMMARY:Christmas fair in Russia
DESCRIPTION:For the Russian communities
LOCATION:Moscow\, Russia
PRIORITY:3
TRANSP:0
END:VEVENT
END:VCALENDAR
