BEGIN:VCALENDAR
PRODID:-//AT Content Types//AT Event//EN
VERSION:2.0
METHOD:PUBLISH
BEGIN:VEVENT
DTSTAMP:20260422T143422Z
CREATED:20251201T105752Z
UID:ATEvent-c6e93e9827c546b9be278fb8630e96a1
LAST-MODIFIED:20251201T105920Z
SUMMARY:Christmas gathering (Croatia)
DTSTART:20251219T230000Z
DTEND:20251219T230000Z
DESCRIPTION:Croatia Province \nTwo Faith and Light communities from Os
 ijek\, the community from Đakovo\, and other communities and groups o
 f people who work with and for people with disabilities will be presen
 t.
LOCATION:Dakovo (Croatia)
CLASS:PUBLIC
END:VEVENT
END:VCALENDAR
