BEGIN:VCALENDAR
PRODID:-//AT Content Types//AT Event//EN
VERSION:1.0
BEGIN:VEVENT
DTSTART:20251129T230000Z
DTEND:20251129T230000Z
DCREATED:20251114T111030Z
UID:ATEvent-172e6630aa4e4d9ea7622f7424347ea2
SEQUENCE:0
LAST-MODIFIED:20251114T111224Z
SUMMARY:Christmas lunch and 30th anniversary of the Living Waters community
DESCRIPTION:For the New Zealand Faith and Light community ‘Living Wa
 ters’
LOCATION:Nelson\, New Zealand
PRIORITY:3
TRANSP:0
END:VEVENT
END:VCALENDAR
