BEGIN:VCALENDAR
PRODID:-//AT Content Types//AT Event//EN
VERSION:1.0
BEGIN:VEVENT
DTSTART:20241214T130000Z
DTEND:20241214T160000Z
DCREATED:20241018T152225Z
UID:ATEvent-3e9b8f5d634b468bbeaff992675bbe4e
SEQUENCE:0
LAST-MODIFIED:20241127T074956Z
SUMMARY:Christmas music celebration - North America
DESCRIPTION:Communities across Canada and the United States are invite
 d to perform a Christmas song or piece of music.
LOCATION:Zoom
PRIORITY:3
TRANSP:0
END:VEVENT
END:VCALENDAR
