BEGIN:VCALENDAR
PRODID:-//AT Content Types//AT Event//EN
VERSION:2.0
METHOD:PUBLISH
BEGIN:VEVENT
DTSTAMP:20260422T141937Z
CREATED:20260211T101043Z
UID:ATEvent-1666b783954f40ba89cb799a7760fab1
LAST-MODIFIED:20260213T091242Z
SUMMARY:Meeting of Romanian community coordinators
DTSTART:20260227T230000Z
DTEND:20260227T230000Z
LOCATION:Cluj-Napoca (Romania)
CLASS:PUBLIC
END:VEVENT
END:VCALENDAR
