BEGIN:VCALENDAR
PRODID:-//AT Content Types//AT Event//EN
VERSION:1.0
BEGIN:VEVENT
DTSTART:20260724T220000Z
DTEND:20260724T220000Z
DCREATED:20260223T115646Z
UID:ATEvent-a16a3b1e70c74a4ca3c2e843c576f5be
SEQUENCE:0
LAST-MODIFIED:20260224T093313Z
SUMMARY:Community gathering\,  Province Our Lady of Guadalupe
LOCATION:Via Zoom
PRIORITY:3
TRANSP:0
END:VEVENT
END:VCALENDAR
