BEGIN:VCALENDAR
PRODID:-//AT Content Types//AT Event//EN
VERSION:2.0
METHOD:PUBLISH
BEGIN:VEVENT
DTSTAMP:20260422T134621Z
CREATED:20251114T131316Z
UID:ATEvent-b9a6a452bcff49da980e283fbe2bc40a
LAST-MODIFIED:20251114T131317Z
SUMMARY:Concert Evening\, Portugal
DTSTART:20251115T183000Z
DTEND:20251115T223000Z
DESCRIPTION:Social centre of the parish of Our Lady of Help\, Portugal
 
LOCATION:Social centre of the parish of Our Lady of Help\, Portugal
CLASS:PUBLIC
END:VEVENT
END:VCALENDAR
