BEGIN:VCALENDAR
PRODID:-//AT Content Types//AT Event//EN
VERSION:1.0
BEGIN:VEVENT
DTSTART:20261026T230000Z
DTEND:20261031T230000Z
DCREATED:20251106T161536Z
UID:ATEvent-c959096f356148ec93712249c767a2b3
SEQUENCE:0
LAST-MODIFIED:20260129T170650Z
SUMMARY:Coordinators' Council
DESCRIPTION:Coordinators from the 51 provinces of Faith and Light\, in
 ternational coordinating team \, International Coordinator and Preside
 nt of Faith and Light International
LOCATION:Beit el Wadi Center\, Egypt
PRIORITY:3
TRANSP:0
END:VEVENT
END:VCALENDAR
