BEGIN:VCALENDAR
PRODID:-//AT Content Types//AT Event//EN
VERSION:1.0
BEGIN:VEVENT
DTSTART:20220525T220000Z
DTEND:20220527T220000Z
DCREATED:20220523T113536Z
UID:ATEvent-c41ad30629f343ed90db950d7d056a14
SEQUENCE:0
LAST-MODIFIED:20220706T124314Z
SUMMARY:Ecumenical Retreat in Denmark
DESCRIPTION:Different churches in Denmark come together in ecumenical 
 celebrations "Himmelske dage" (heavenly days)
LOCATION:Roskilde\, Denmark
PRIORITY:3
TRANSP:0
END:VEVENT
END:VCALENDAR
