BEGIN:VCALENDAR
PRODID:-//AT Content Types//AT Event//EN
VERSION:2.0
METHOD:PUBLISH
BEGIN:VEVENT
DTSTAMP:20260422T133943Z
CREATED:20251125T150015Z
UID:ATEvent-c6ad67c9bd9248699c6c93e5c9afab79
LAST-MODIFIED:20251125T150208Z
SUMMARY:Faith and Light Communities' Holy Mass in Cracow.
DTSTART:20260221T230000Z
DTEND:20260221T230000Z
DESCRIPTION:For the province of Southern Poland 3 p.m.
LOCATION:Franciscan Basilica of Saint Francis of Assisi (Italian Hall)\, 5 All Saints Square\, 31-004 Krakow
CLASS:PUBLIC
END:VEVENT
END:VCALENDAR
