BEGIN:VCALENDAR
PRODID:-//AT Content Types//AT Event//EN
VERSION:1.0
BEGIN:VEVENT
DTSTART:20251220T230000Z
DTEND:20251220T230000Z
DCREATED:20251125T093050Z
UID:ATEvent-df2ff6fdc2984d9a9bf05d83d402e00e
SEQUENCE:0
LAST-MODIFIED:20251125T161643Z
SUMMARY:Faith and Light Communities' Holy Mass in Cracow
DESCRIPTION:For communities in southern Poland\nMass at 3 p.m.
LOCATION:Franciscan Basilica of St. Francis of Assisi (Italian Room)\, 5 All Saints Square\, 31-004 Cracow.
PRIORITY:3
TRANSP:0
END:VEVENT
END:VCALENDAR
