BEGIN:VCALENDAR
PRODID:-//AT Content Types//AT Event//EN
VERSION:1.0
BEGIN:VEVENT
DTSTART:20260618T220000Z
DTEND:20260619T220000Z
DCREATED:20251124T160109Z
UID:ATEvent-5a5f8f5ae3054803b7b34d466d51d844
SEQUENCE:0
LAST-MODIFIED:20260130T103055Z
SUMMARY:Faith and Light community retreat\, United States
DESCRIPTION:For the Faith and Light USA East Province
LOCATION:Loyola Retreat Center\, Akron\, Ohio
PRIORITY:3
TRANSP:0
END:VEVENT
END:VCALENDAR
