BEGIN:VCALENDAR
PRODID:-//AT Content Types//AT Event//EN
VERSION:2.0
METHOD:PUBLISH
BEGIN:VEVENT
DTSTAMP:20260422T053907Z
CREATED:20251224T065958Z
UID:ATEvent-27897cc8a4534412ae8661cf547c44b1
LAST-MODIFIED:20251224T070101Z
SUMMARY:Faith and Light holiday camp in Switzerland
DTSTART:20260726T220000Z
DTEND:20260731T220000Z
DESCRIPTION:For the province of Mountains and Valleys without borders 
 \nAccommodation: Maison Bethanien - Chemin Neuf Community
LOCATION:Sankt-Niklausen\, Switzerland
CLASS:PUBLIC
END:VEVENT
END:VCALENDAR
