BEGIN:VCALENDAR
PRODID:-//AT Content Types//AT Event//EN
VERSION:1.0
BEGIN:VEVENT
DTSTART:20251230T230000Z
DTEND:20251230T230000Z
DCREATED:20251106T104030Z
UID:ATEvent-8cc63860f7dc4a87b7ca5f308f3c4945
SEQUENCE:0
LAST-MODIFIED:20251114T094258Z
SUMMARY:Faith and Light New years' Eve
DESCRIPTION:Organised by the province "Paris et le Levant"
LOCATION:Paroisse Saint Séverin\, Paris
PRIORITY:3
TRANSP:0
END:VEVENT
END:VCALENDAR
