BEGIN:VCALENDAR
PRODID:-//AT Content Types//AT Event//EN
VERSION:1.0
BEGIN:VEVENT
DTSTART:20260416T220000Z
DTEND:20260418T220000Z
DCREATED:20251114T131953Z
UID:ATEvent-d077cfab50bc431789d0643c92da0e99
SEQUENCE:0
LAST-MODIFIED:20260304T150944Z
SUMMARY:Faith and Light Norway Formation training
DESCRIPTION:For Norwegian communities
LOCATION:Solsetra\, Norway
PRIORITY:3
TRANSP:0
END:VEVENT
END:VCALENDAR
