BEGIN:VCALENDAR
PRODID:-//AT Content Types//AT Event//EN
VERSION:1.0
BEGIN:VEVENT
DTSTART:20230511T220000Z
DTEND:20230511T220000Z
DCREATED:20230203T110020Z
UID:ATEvent-7095c4fe0ad0454d8c93d2e4f34ab62d
SEQUENCE:0
LAST-MODIFIED:20230203T110023Z
SUMMARY:Faith and Light retreat in Rwanda
LOCATION:Kigufi\, Rwanda
PRIORITY:3
TRANSP:0
END:VEVENT
END:VCALENDAR
