BEGIN:VCALENDAR
PRODID:-//AT Content Types//AT Event//EN
VERSION:2.0
METHOD:PUBLISH
BEGIN:VEVENT
DTSTAMP:20260422T060136Z
CREATED:20251110T145925Z
UID:ATEvent-6905c5562d9e495fb87a68e242cd9c29
LAST-MODIFIED:20251110T150044Z
SUMMARY:Feast of Light in Ireland
DTSTART:20260130T230000Z
DTEND:20260130T230000Z
DESCRIPTION:For the Irish communities
LOCATION:Dunmore\, Ireland
CLASS:PUBLIC
END:VEVENT
END:VCALENDAR
