BEGIN:VCALENDAR
PRODID:-//AT Content Types//AT Event//EN
VERSION:2.0
METHOD:PUBLISH
BEGIN:VEVENT
DTSTAMP:20260422T024113Z
CREATED:20251106T112648Z
UID:ATEvent-418c1a83a7a145a49b79bf2b5b05bbfc
LAST-MODIFIED:20251117T104244Z
SUMMARY:Feast of Light in Lithuania
DTSTART:20260130T230000Z
DTEND:20260130T230000Z
DESCRIPTION:For Lithuanian communities
LOCATION:Kretinga\, Lithuania
CLASS:PUBLIC
END:VEVENT
END:VCALENDAR
