BEGIN:VCALENDAR
PRODID:-//AT Content Types//AT Event//EN
VERSION:2.0
METHOD:PUBLISH
BEGIN:VEVENT
DTSTAMP:20260422T060109Z
CREATED:20251113T120509Z
UID:ATEvent-a5287d6bfd534ee48ea959404cb44000
LAST-MODIFIED:20251113T154511Z
SUMMARY:Feast of Light in Portugal
DTSTART:20260131T230000Z
DTEND:20260131T230000Z
DESCRIPTION:For Portuguese communities
LOCATION:Parish of Vermoim in Maia\, Portugal
CLASS:PUBLIC
END:VEVENT
END:VCALENDAR
