BEGIN:VCALENDAR
PRODID:-//AT Content Types//AT Event//EN
VERSION:2.0
METHOD:PUBLISH
BEGIN:VEVENT
DTSTAMP:20260422T055750Z
CREATED:20221018T090816Z
UID:ATEvent-d467b99f3cd744b2b9f30afeef88b684
LAST-MODIFIED:20230123T101942Z
SUMMARY:Feast of Light provincia Terra et Mare
DTSTART:20230203T230000Z
DTEND:20230203T230000Z
DESCRIPTION:In all the communities of the province
LOCATION:In all the towns of the Faith and Light communities of the province
CLASS:PUBLIC
END:VEVENT
END:VCALENDAR
