BEGIN:VCALENDAR
PRODID:-//AT Content Types//AT Event//EN
VERSION:1.0
BEGIN:VEVENT
DTSTART:20230128T230000Z
DTEND:20230128T230000Z
DCREATED:20230111T104012Z
UID:ATEvent-4d6ca493475e4f499071c98ecabd3b08
SEQUENCE:0
LAST-MODIFIED:20230118T090308Z
SUMMARY:Feast of Light - Reunion
LOCATION:Sainte-Clotilde (Le Chaudron)\, Reunion Island
PRIORITY:3
TRANSP:0
END:VEVENT
END:VCALENDAR
