BEGIN:VCALENDAR
PRODID:-//AT Content Types//AT Event//EN
VERSION:1.0
BEGIN:VEVENT
DTSTART:20230203T230000Z
DTEND:20230203T230000Z
DCREATED:20221220T170053Z
UID:ATEvent-8eeeaa72a3b74168bd4f680a4f6a6e13
SEQUENCE:0
LAST-MODIFIED:20230123T101752Z
SUMMARY:Feast of Light  South Poland
LOCATION:Lancut\, Poland
PRIORITY:3
TRANSP:0
END:VEVENT
END:VCALENDAR
