BEGIN:VCALENDAR
PRODID:-//AT Content Types//AT Event//EN
VERSION:2.0
METHOD:PUBLISH
BEGIN:VEVENT
DTSTAMP:20260422T012235Z
CREATED:20251117T090822Z
UID:ATEvent-ce32a4b1d81c4c9d9c8e8d246a4cbf17
LAST-MODIFIED:20251117T092005Z
SUMMARY:Feast of Saint Nicholas\, Ukraine
DTSTART:20251205T230000Z
DTEND:20251205T230000Z
DESCRIPTION:For Ukrainian communities
LOCATION:Ukraine
CLASS:PUBLIC
END:VEVENT
END:VCALENDAR
