BEGIN:VCALENDAR
PRODID:-//AT Content Types//AT Event//EN
VERSION:2.0
METHOD:PUBLISH
BEGIN:VEVENT
DTSTAMP:20260421T161415Z
CREATED:20260219T135439Z
UID:ATEvent-9a8b0dc09ec044b0994656efdbaabb7b
LAST-MODIFIED:20260219T140221Z
SUMMARY:Feast of Spring - Communities of Rome
DTSTART:20260523T220000Z
DTEND:20260523T220000Z
DESCRIPTION:In Rome\, in May\, the 15 communities of Rome gather in a 
 green space to enjoy a moment of welcome\, games\, sharing\, and the c
 elebration of Mass.\nIt is a large gathering that brings together betw
 een 150 and 170 people.
LOCATION:Roma\, Italy
CLASS:PUBLIC
END:VEVENT
END:VCALENDAR
