BEGIN:VCALENDAR
PRODID:-//AT Content Types//AT Event//EN
VERSION:1.0
BEGIN:VEVENT
DTSTART:20251206T230000Z
DTEND:20251206T230000Z
DCREATED:20251110T153043Z
UID:ATEvent-10018cc4e0024564a4ffe85ae1ebe031
SEQUENCE:0
LAST-MODIFIED:20251110T153705Z
SUMMARY:Feast of the Nativity in Saint Domingo
DESCRIPTION:For communities in the Dominican Republic
LOCATION:Saint Domingo\, Dominican Republic
PRIORITY:3
TRANSP:0
END:VEVENT
END:VCALENDAR
