BEGIN:VCALENDAR
PRODID:-//AT Content Types//AT Event//EN
VERSION:2.0
METHOD:PUBLISH
BEGIN:VEVENT
DTSTAMP:20260422T073158Z
CREATED:20251114T093002Z
UID:ATEvent-37f0ffb87639424aa8a84a0bbbae3db7
LAST-MODIFIED:20260130T102806Z
SUMMARY:Feast of Light\, Province of Paris and the East
DTSTART:20260131T230000Z
DTEND:20260131T230000Z
DESCRIPTION:St Michel des Batignolles Church\, 3 Pl. Saint-Jean\, 7501
 7 Paris
CLASS:PUBLIC
END:VEVENT
END:VCALENDAR
