BEGIN:VCALENDAR
PRODID:-//AT Content Types//AT Event//EN
VERSION:2.0
METHOD:PUBLISH
BEGIN:VEVENT
DTSTAMP:20260421T204211Z
CREATED:20251117T093856Z
UID:ATEvent-dd65d87afc414e978443e842d8387fe3
LAST-MODIFIED:20260129T161155Z
SUMMARY:Feast of Light\, Ukraine
DTSTART:20260201T230000Z
DTEND:20260201T230000Z
DESCRIPTION:For Ukrainian communities
LOCATION:Ukraine
CLASS:PUBLIC
END:VEVENT
END:VCALENDAR
