BEGIN:VCALENDAR
PRODID:-//AT Content Types//AT Event//EN
VERSION:1.0
BEGIN:VEVENT
DTSTART:20260113T230000Z
DTEND:20260113T230000Z
DCREATED:20251125T143638Z
UID:ATEvent-fdce15446093423ba5975d6e025c33a1
SEQUENCE:0
LAST-MODIFIED:20260105T104738Z
SUMMARY:Finance Meeting\, Southern Poland Province
DESCRIPTION:For treasurers and community council members. \nModerated 
 by the provincial treasurer.
LOCATION:Online\, 7pm
PRIORITY:3
TRANSP:0
END:VEVENT
END:VCALENDAR
