BEGIN:VCALENDAR
PRODID:-//AT Content Types//AT Event//EN
VERSION:2.0
METHOD:PUBLISH
BEGIN:VEVENT
DTSTAMP:20260421T222947Z
CREATED:20250227T152355Z
UID:ATEvent-898adef58a724b638e2cc6c8a9a0c711
LAST-MODIFIED:20250227T152357Z
SUMMARY:Formation session and meeting of the province Reborn (Brazil)
DTSTART:20251119T230000Z
DTEND:20251122T230000Z
LOCATION:State of Rio Grande do Norte
CLASS:PUBLIC
END:VEVENT
END:VCALENDAR
