BEGIN:VCALENDAR
PRODID:-//AT Content Types//AT Event//EN
VERSION:2.0
METHOD:PUBLISH
BEGIN:VEVENT
DTSTAMP:20260421T234853Z
CREATED:20230203T143303Z
UID:ATEvent-021a74b770694dbfaa51e505813fae14
LAST-MODIFIED:20230203T143304Z
SUMMARY:Formation session for the coordinating team from Belgium
DTSTART:20230601T220000Z
DTEND:20230603T220000Z
LOCATION:La Pairelle (Wépion)\, Belgium
CLASS:PUBLIC
END:VEVENT
END:VCALENDAR
