BEGIN:VCALENDAR
PRODID:-//AT Content Types//AT Event//EN
VERSION:1.0
BEGIN:VEVENT
DTSTART:20230901T220000Z
DTEND:20230901T220000Z
DCREATED:20230209T142550Z
UID:ATEvent-28d320802f5c4706b3aa4ea64cbacd4e
SEQUENCE:0
LAST-MODIFIED:20230209T142551Z
SUMMARY:Formation session in the Netherlands
DESCRIPTION:for members of the communities coordinating teams  from th
 e Netherlands
PRIORITY:3
TRANSP:0
END:VEVENT
END:VCALENDAR
