BEGIN:VCALENDAR
PRODID:-//AT Content Types//AT Event//EN
VERSION:2.0
METHOD:PUBLISH
BEGIN:VEVENT
DTSTAMP:20260422T085732Z
CREATED:20260223T084532Z
UID:ATEvent-f4a3f4b8f2544630950c838da20e86e4
LAST-MODIFIED:20260223T084934Z
SUMMARY:Formation training and retreat for communities in Gauteng
DTSTART:20261001T220000Z
DTEND:20261003T220000Z
DESCRIPTION:For the Province Capricorn Africa
LOCATION:Edenvale Methodist Church\, 57 6th Ave\, Edenvale\, 1610\, South Africa
CLASS:PUBLIC
END:VEVENT
END:VCALENDAR
