BEGIN:VCALENDAR
PRODID:-//AT Content Types//AT Event//EN
VERSION:1.0
BEGIN:VEVENT
DTSTART:20260915T220000Z
DTEND:20260915T220000Z
DCREATED:20251128T081250Z
UID:ATEvent-7a54213d24e543198fa8e693e48d8e25
SEQUENCE:0
LAST-MODIFIED:20260129T165235Z
SUMMARY:General Assembly - Canada East province
DESCRIPTION:For the Province of Canada East. Via Zoom
LOCATION:Online (time to be confirmed)
PRIORITY:3
TRANSP:0
END:VEVENT
END:VCALENDAR
