BEGIN:VCALENDAR
PRODID:-//AT Content Types//AT Event//EN
VERSION:2.0
METHOD:PUBLISH
BEGIN:VEVENT
DTSTAMP:20260422T115034Z
CREATED:20250210T103340Z
UID:ATEvent-55fa4d068e104f3ea7f80959a6f51645
LAST-MODIFIED:20250210T103348Z
SUMMARY:Hiking for young people from the province Lebanon South Jordan
DTSTART:20250627T220000Z
DTEND:20250627T220000Z
LOCATION:Vallée des Saint – Qanoubine Bcharre\, Lebanon
CLASS:PUBLIC
END:VEVENT
END:VCALENDAR
